BEGIN:VCALENDAR
VERSION:2.0
PRODID:-//TeamTrip - ECPv6.1.1//NONSGML v1.0//EN
CALSCALE:GREGORIAN
METHOD:PUBLISH
X-WR-CALNAME:TeamTrip
X-ORIGINAL-URL:https://teamtrip.es
X-WR-CALDESC:Eventos para TeamTrip
REFRESH-INTERVAL;VALUE=DURATION:PT1H
X-Robots-Tag:noindex
X-PUBLISHED-TTL:PT1H
BEGIN:VTIMEZONE
TZID:Europe/Madrid
BEGIN:DAYLIGHT
TZOFFSETFROM:+0100
TZOFFSETTO:+0200
TZNAME:CEST
DTSTART:20220327T010000
END:DAYLIGHT
BEGIN:STANDARD
TZOFFSETFROM:+0200
TZOFFSETTO:+0100
TZNAME:CET
DTSTART:20221030T010000
END:STANDARD
END:VTIMEZONE
BEGIN:VEVENT
DTSTART;VALUE=DATE:20220403
DTEND;VALUE=DATE:20220404
DTSTAMP:20260425T175059
CREATED:20220401T114636Z
LAST-MODIFIED:20220401T114636Z
UID:916-1648944000-1649030399@teamtrip.es
SUMMARY:Ruta de las Atalayas / SCOTT 7 ESTRELLAS
DESCRIPTION:
URL:https://teamtrip.es/event/ruta-de-las-atalayas-scott-7-estrellas
END:VEVENT
END:VCALENDAR