BEGIN:VCALENDAR
VERSION:2.0
PRODID:-//TeamTrip - ECPv6.1.1//NONSGML v1.0//EN
CALSCALE:GREGORIAN
METHOD:PUBLISH
X-ORIGINAL-URL:https://teamtrip.es
X-WR-CALDESC:Eventos para TeamTrip
REFRESH-INTERVAL;VALUE=DURATION:PT1H
X-Robots-Tag:noindex
X-PUBLISHED-TTL:PT1H
BEGIN:VTIMEZONE
TZID:Europe/Madrid
BEGIN:DAYLIGHT
TZOFFSETFROM:+0100
TZOFFSETTO:+0200
TZNAME:CEST
DTSTART:20220327T010000
END:DAYLIGHT
BEGIN:STANDARD
TZOFFSETFROM:+0200
TZOFFSETTO:+0100
TZNAME:CET
DTSTART:20221030T010000
END:STANDARD
END:VTIMEZONE
BEGIN:VEVENT
DTSTART;VALUE=DATE:20220828
DTEND;VALUE=DATE:20220829
DTSTAMP:20260425T125249
CREATED:20220627T120458Z
LAST-MODIFIED:20220704T105757Z
UID:1000-1661644800-1661731199@teamtrip.es
SUMMARY:V Maratón MTB Sendas de Cuenca
DESCRIPTION:La fecha elegida es el 28 de agosto\, como siempre 15 días antes del campeonato de España. Una vez más será puntuable para el open castellano manchego XCM y campeonato regional.
URL:https://teamtrip.es/event/v-maraton-mtb-sendas-de-cuenca
LOCATION:Cuenca
END:VEVENT
END:VCALENDAR