BEGIN:VCALENDAR
VERSION:2.0
PRODID:-//TeamTrip - ECPv6.1.1//NONSGML v1.0//EN
CALSCALE:GREGORIAN
METHOD:PUBLISH
X-ORIGINAL-URL:https://teamtrip.es
X-WR-CALDESC:Eventos para TeamTrip
REFRESH-INTERVAL;VALUE=DURATION:PT1H
X-Robots-Tag:noindex
X-PUBLISHED-TTL:PT1H
BEGIN:VTIMEZONE
TZID:Europe/Madrid
BEGIN:DAYLIGHT
TZOFFSETFROM:+0100
TZOFFSETTO:+0200
TZNAME:CEST
DTSTART:20220327T010000
END:DAYLIGHT
BEGIN:STANDARD
TZOFFSETFROM:+0200
TZOFFSETTO:+0100
TZNAME:CET
DTSTART:20221030T010000
END:STANDARD
END:VTIMEZONE
BEGIN:VEVENT
DTSTART;VALUE=DATE:20220728
DTEND;VALUE=DATE:20220801
DTSTAMP:20260419T191233
CREATED:20220621T102824Z
LAST-MODIFIED:20220621T102824Z
UID:980-1658966400-1659311999@teamtrip.es
SUMMARY:COLINA TRISTE MTB
DESCRIPTION:Una de las pruebas mtb top de nuestro país. Carrera por etapas en pareja. ¿Tenéis vuestras inscripciones? Nosotros nos encargamos del resto.
URL:https://teamtrip.es/event/colina-triste-mtb
END:VEVENT
BEGIN:VEVENT
DTSTART;VALUE=DATE:20220702
DTEND;VALUE=DATE:20220703
DTSTAMP:20260419T191233
CREATED:20220621T102136Z
LAST-MODIFIED:20220621T102136Z
UID:975-1656720000-1656806399@teamtrip.es
SUMMARY:GRAN TRIATLÓN MADRID
DESCRIPTION:Empezamos Julio con Triatlón\, nada menos que con la fiesta del triatlón madrileño. Tendremos nuestra carpa a disposición de aquellos corredores que se quieran despreocupar de todo y solo quieran pensar en la competición. Corre como un profesional. Como siempre\, en nuestra carpa tendrás un lugar donde cambiarte\, dejar tus cosas\, calentar\, recuperar después de la prueba y un sitio donde recibir  tus acompañantes.
URL:https://teamtrip.es/event/gran-triatlon-madrid
END:VEVENT
BEGIN:VEVENT
DTSTART;TZID=Europe/Madrid:20220507T180000
DTEND;TZID=Europe/Madrid:20220507T193000
DTSTAMP:20260419T191233
CREATED:20220506T113241Z
LAST-MODIFIED:20220506T113241Z
UID:958-1651946400-1651951800@teamtrip.es
SUMMARY:Taller "Viajar en Bicicleta"
DESCRIPTION:
URL:https://teamtrip.es/event/taller-viajar-en-bicicleta
LOCATION:Decathlon San Fernando de Henares
END:VEVENT
BEGIN:VEVENT
DTSTART;VALUE=DATE:20220403
DTEND;VALUE=DATE:20220404
DTSTAMP:20260419T191233
CREATED:20220401T114636Z
LAST-MODIFIED:20220401T114636Z
UID:916-1648944000-1649030399@teamtrip.es
SUMMARY:Ruta de las Atalayas / SCOTT 7 ESTRELLAS
DESCRIPTION:
URL:https://teamtrip.es/event/ruta-de-las-atalayas-scott-7-estrellas
END:VEVENT
BEGIN:VEVENT
DTSTART;VALUE=DATE:20220327
DTEND;VALUE=DATE:20220328
DTSTAMP:20260419T191233
CREATED:20220217T152729Z
LAST-MODIFIED:20220217T152857Z
UID:892-1648339200-1648425599@teamtrip.es
SUMMARY:Ruta Senderista Las Cárcavas
DESCRIPTION:Realizamos una ruta para senderistas en la sierra de Madrid
URL:https://teamtrip.es/event/ruta-senderista-las-carcavas
END:VEVENT
BEGIN:VEVENT
DTSTART;VALUE=DATE:20220313
DTEND;VALUE=DATE:20220314
DTSTAMP:20260419T191233
CREATED:20220303T130151Z
LAST-MODIFIED:20220303T130151Z
UID:899-1647129600-1647215999@teamtrip.es
SUMMARY:MARCHA MTB LA CABRA TIRA AL MONTE 2022
DESCRIPTION:A este evento acudimos como colaborador\, estaremos con nuestra furgo y carpa junto a la meta/salida.
URL:https://teamtrip.es/event/marcha-mtb-la-cabra-tira-al-monte-2022
END:VEVENT
BEGIN:VEVENT
DTSTART;VALUE=DATE:20220306
DTEND;VALUE=DATE:20220307
DTSTAMP:20260419T191233
CREATED:20220303T130657Z
LAST-MODIFIED:20220303T130657Z
UID:902-1646524800-1646611199@teamtrip.es
SUMMARY:3ª Carrera MTB BiciAzu
DESCRIPTION:Volvemos a las carreras MTB que organiza el ayuntamiento de Azuqueca de Henares.
URL:https://teamtrip.es/event/3a-carrera-mtb-biciazu
END:VEVENT
BEGIN:VEVENT
DTSTART;VALUE=DATE:20220227
DTEND;VALUE=DATE:20220228
DTSTAMP:20260419T191233
CREATED:20220224T153009Z
LAST-MODIFIED:20220224T153009Z
UID:896-1645920000-1646006399@teamtrip.es
SUMMARY:Rally de los Embalses / Circuito 7 Estrellas MTB
DESCRIPTION:Último finde de Febrero\, nos vamos a Galapagar a seguir con la promoción de Teamtrip\, continuamos la campaña inicial de marketing para que nos conozcan más amantes de la bicicleta. Estaremos en la segunda cita del circuito 7 estrellas MTB en el Rally de los Embalses\, así que\, si vais a participar el domingo y sois seguidores de Teamtrip en nuestras redes sociales\, contactarnos por que ¡¡os llevamos gratis!! \n\n\n\n\nNombre(obligatorio)\n\n	\n\n\nCorreo electrónico(obligatorio)\n\n	\n\n\nWeb\n\n	\n\n\nMensaje\n\n	\n	\n		Enviar
URL:https://teamtrip.es/event/rally-de-los-embalses-circuito-7-estrellas-mtb
END:VEVENT
BEGIN:VEVENT
DTSTART;VALUE=DATE:20220220
DTEND;VALUE=DATE:20220221
DTSTAMP:20260419T191233
CREATED:20220210T164245Z
LAST-MODIFIED:20220210T164305Z
UID:884-1645315200-1645401599@teamtrip.es
SUMMARY:IV VILLA DE TORREJON 10K
DESCRIPTION:Continuamos con la campaña inicial de marketing y además\, en esta carrera tendremos a Javier Piña como speaker de la prueba.
URL:https://teamtrip.es/event/iv-villa-de-torrejon-10k
END:VEVENT
BEGIN:VEVENT
DTSTART;VALUE=DATE:20220213
DTEND;VALUE=DATE:20220214
DTSTAMP:20260419T191233
CREATED:20220210T163746Z
LAST-MODIFIED:20220210T163746Z
UID:882-1644710400-1644796799@teamtrip.es
SUMMARY:Ruta del Torote. Circuito 7 Estrellas MTB
DESCRIPTION:Estaremos en esta prueba continuando con nuestra campaña de marketing.
URL:https://teamtrip.es/event/ruta-del-torote-circuito-7-estrellas-mtb
END:VEVENT
BEGIN:VEVENT
DTSTART;VALUE=DATE:20220212
DTEND;VALUE=DATE:20220213
DTSTAMP:20260419T191233
CREATED:20220210T163304Z
LAST-MODIFIED:20220210T163304Z
UID:880-1644624000-1644710399@teamtrip.es
SUMMARY:Ecodumad Cross - Campeonato de Madrid de Duatlón Cross Contrarreloj por Equipos en San Agustín de Guadalix
DESCRIPTION:Empezamos nuestra campaña de marketing en esta prueba.
URL:https://teamtrip.es/event/ecodumad-cross-campeonato-de-madrid-de-duatlon-cross-contrarreloj-por-equipos-en-san-agustin-de-guadalix
END:VEVENT
END:VCALENDAR